BEGIN:VCALENDAR
VERSION:2.0
PRODID:-//Library Market//iCal Export//EN
BEGIN:VEVENT
SUMMARY:After School Play
UID:295
DTSTAMP:20260420T054200Z
DTSTART:20260402T200000Z
DTEND:20260402T220000Z
LOCATION:535 N. Main St., Jamestown, KY 42629, United States
ROOM: Children&#039;s Activity Room
DESCRIPTION:
URL:https://russellcounty.librarycalendar.com/event/after-school-play-295
END:VEVENT
END:VCALENDAR
