BEGIN:VCALENDAR
VERSION:2.0
PRODID:-//Library Market//iCal Export//EN
BEGIN:VEVENT
SUMMARY:Homeschool Hangout
UID:298
DTSTAMP:20260420T015700Z
DTSTART:20260406T180000Z
DTEND:20260406T190000Z
LOCATION:535 N. Main St., Jamestown, KY 42629, United States
ROOM: Children&#039;s Activity Room
DESCRIPTION:
URL:https://russellcounty.librarycalendar.com/event/homeschool-hangout-298
END:VEVENT
END:VCALENDAR
