BEGIN:VCALENDAR
VERSION:2.0
PRODID:-//Library Market//iCal Export//EN
BEGIN:VEVENT
SUMMARY:Makers: Clay &amp; Doh Studio
UID:300
DTSTAMP:20260420T015700Z
DTSTART:20260406T180000Z
DTEND:20260406T200000Z
LOCATION:535 North Main St, Jamestown, KY 42629, United States
ROOM: Community Room
DESCRIPTION:Come get creative with air-dry clay and Play-Doh—squish it, 
 shape it, and make something totally your own! It’s a fun, relaxed time 
 to play, create, and let your imagination run wild.
URL:https://russellcounty.librarycalendar.com/event/makers-clay-doh-studio
 -300
END:VEVENT
END:VCALENDAR
