BEGIN:VCALENDAR
VERSION:2.0
PRODID:-//Library Market//iCal Export//EN
BEGIN:VEVENT
SUMMARY:Petal Pals
UID:302
DTSTAMP:20260420T015700Z
DTSTART:20260408T200000Z
DTEND:20260408T220000Z
LOCATION:535 N. Main St., Jamestown, KY 42629, United States
ROOM: Children&#039;s Activity Room
DESCRIPTION:Create your own blooming masterpiece! Paint a watercolor bouqu
 et, craft ribbon bouquets with craft sticks, and make button flowers.
URL:https://russellcounty.librarycalendar.com/event/petal-pals-302
END:VEVENT
END:VCALENDAR
