BEGIN:VCALENDAR
VERSION:2.0
PRODID:-//Library Market//iCal Export//EN
BEGIN:VEVENT
SUMMARY:D&amp;D Adventures
UID:303
DTSTAMP:20260420T145700Z
DTSTART:20260409T170000Z
DTEND:20260409T210000Z
LOCATION:535 North Main St, Jamestown, KY 42629, United States
ROOM: The Makery
DESCRIPTION:When a wealthy business owner&#039;s daughter goes missing, he
  entrusts the party with the ransom money that has been demanded by a grou
 p of hostage takers. You should expect dangerous dealings, because the dou
 ble-crossing drama doesn&#039;t end with a simple swap.
URL:https://russellcounty.librarycalendar.com/event/dd-adventures-303
END:VEVENT
END:VCALENDAR
