BEGIN:VCALENDAR
VERSION:2.0
PRODID:-//Library Market//iCal Export//EN
BEGIN:VEVENT
SUMMARY:Potato Derby: Open Build
UID:305
DTSTAMP:20260420T015700Z
DTSTART:20260411T143000Z
DTEND:20260411T153000Z
LOCATION:535 North Main St, Jamestown, KY 42629, United States
ROOM: Community Room
DESCRIPTION:Missed picking up a kit? No problemâ€”join us for Open Build f
 rom 9:30â€“10:30 AM and create your potato car before the races begin! Weâ
 €™ll have supplies ready, so get ready to build, decorate, and have fun.
URL:https://russellcounty.librarycalendar.com/event/potato-derby-open-buil
 d-305
END:VEVENT
END:VCALENDAR
