BEGIN:VCALENDAR
VERSION:2.0
PRODID:-//Library Market//iCal Export//EN
BEGIN:VEVENT
SUMMARY:Potato Derby: Race
UID:306
DTSTAMP:20260420T015700Z
DTSTART:20260411T160000Z
DTEND:20260411T170000Z
LOCATION:535 North Main St, Jamestown, KY 42629, United States
ROOM: Community Room
DESCRIPTION:Races kick off at 11 AM! Bring your potato car and get ready t
 o see how far it can go. Cheer each other on as we race for distance, crea
 tivity, and bragging rights.
URL:https://russellcounty.librarycalendar.com/event/potato-derby-race-306
END:VEVENT
END:VCALENDAR
