BEGIN:VCALENDAR
VERSION:2.0
PRODID:-//Library Market//iCal Export//EN
BEGIN:VEVENT
SUMMARY:Spring Book Wreath Workshop
UID:307
DTSTAMP:20260420T054200Z
DTSTART:20260415T160000Z
DTEND:20260415T180000Z
LOCATION:535 North Main St, Jamestown, KY 42629, United States
ROOM: The Makery
DESCRIPTION:Create your own whimsical book wreath using simple materials a
 nd give old pages new life in this hands on craft workshop. 
URL:https://russellcounty.librarycalendar.com/event/spring-book-wreath-wor
 kshop-307
END:VEVENT
END:VCALENDAR
