BEGIN:VCALENDAR
VERSION:2.0
PRODID:-//Library Market//iCal Export//EN
BEGIN:VEVENT
SUMMARY:D&amp;D for Adults
UID:321
DTSTAMP:20260420T054200Z
DTSTART:20260425T170000Z
DTEND:20260425T210000Z
LOCATION:535 North Main St, Jamestown, KY 42629, United States
ROOM: Community Room
DESCRIPTION:The signal has stopped, and a silent ship drifts in the darkne
 ss of Wildspace. Board the vessel, uncover eerie clues, and discover what 
 went wrong in this suspense-filled one-shot adventure. Perfect for all exp
 erience levels—no D&amp;D knowledge needed.
URL:https://russellcounty.librarycalendar.com/event/dd-adults-321
END:VEVENT
END:VCALENDAR
