BEGIN:VCALENDAR
VERSION:2.0
PRODID:-//Library Market//iCal Export//EN
BEGIN:VEVENT
SUMMARY:RCPL on the Go: Dollar General @ Salem
UID:322
DTSTAMP:20260420T015700Z
DTSTART:20260413T180000Z
DTEND:20260413T190000Z
LOCATION:Dollar General, 1625 KY-910, Russell Springs, KY 42642, United St
 ates
ROOM: RCPL on the Go: Dollar General @ Salem
DESCRIPTION:Are you in need of library services? Look no further! The RCPL
  Outreach Vehicle is coming to an area near you.
URL:https://russellcounty.librarycalendar.com/event/rcpl-go-dollar-general
 -salem-322
END:VEVENT
END:VCALENDAR
